BEGIN:VCALENDAR
VERSION:2.0
PRODID:-//ChamberMaster//Event Calendar 2.0//EN
METHOD:PUBLISH
X-PUBLISHED-TTL:P3D
REFRESH-INTERVAL:P3D
CALSCALE:GREGORIAN
BEGIN:VEVENT
DTSTART:20110520T170000Z
DTEND:20110520T180000Z
X-MICROSOFT-CDO-ALLDAYEVENT:FALSE
SUMMARY:Fridays For You - "Stomachs Can Be Upsetting"
DESCRIPTION:Memorial Health Care Systems presents Fridays for You\, "Stomachs Can Be Upsetting" presented by Dr. James Plasek\, physician at Seward Family Medical Center.\n\n\n\nFree Event\, Lunch provided - Please RSVP by May 13th by calling 646-4707
X-ALT-DESC;FMTTYPE=text/html:Memorial Health Care Systems presents Fridays for You\, &quot\;Stomachs Can Be Upsetting&quot\; presented by Dr. James Plasek\, physician at Seward Family Medical Center.<br />\n<br />\nFree Event\, Lunch provided - Please RSVP by May 13th by calling 646-4707
LOCATION:Seward Family Medical Center lower level conference room 300 N. Columbia Ave\, Seward\, NE
UID:e.865.1079
SEQUENCE:3
DTSTAMP:20260424T231558Z
URL:https://business.cultivatesewardcounty.com/events/details/fridays-for-you-stomachs-can-be-upsetting-05-20-2011-1079
END:VEVENT

END:VCALENDAR
