BEGIN:VCALENDAR
VERSION:2.0
PRODID:-//ChamberMaster//Event Calendar 2.0//EN
METHOD:PUBLISH
X-PUBLISHED-TTL:P3D
REFRESH-INTERVAL:P3D
CALSCALE:GREGORIAN
BEGIN:VEVENT
DTSTART:20110610T170000Z
DTEND:20110610T180000Z
X-MICROSOFT-CDO-ALLDAYEVENT:FALSE
SUMMARY:Fridays For You\, "Anticipating Your Future Self"
DESCRIPTION:Seward\, Nebraska Memorial Health Care Systems will host the Fridays For You series\, "Anticipating Your Future Self" with Julie Masters\, Ph.D Chairman of the Department of Gerontology at the University of Nebraska\, Omaha.
X-ALT-DESC;FMTTYPE=text/html:Seward\, Nebraska Memorial Health Care Systems will host the Fridays For You series\, &quot\;Anticipating Your Future Self&quot\; with Julie Masters\, Ph.D Chairman of the Department of Gerontology at the University of Nebraska\, Omaha.
LOCATION:Memorial Health Care Systems\, 300 N. Columbia Ave.\, Seward\, NE
UID:e.865.1099
SEQUENCE:3
DTSTAMP:20260424T220112Z
URL:https://business.cultivatesewardcounty.com/events/details/fridays-for-you-anticipating-your-future-self-06-10-2011-1099
END:VEVENT

END:VCALENDAR
