BEGIN:VCALENDAR
VERSION:2.0
PRODID:-//ChamberMaster//Event Calendar 2.0//EN
METHOD:PUBLISH
X-PUBLISHED-TTL:P3D
REFRESH-INTERVAL:P3D
CALSCALE:GREGORIAN
BEGIN:VEVENT
DTSTART:20120615T170000Z
DTEND:20120615T180000Z
X-MICROSOFT-CDO-ALLDAYEVENT:FALSE
SUMMARY:Fridays for You
DESCRIPTION:"Cooking for 1 or 2" with Cindy Winter\, MHCS Dietary Director.
X-ALT-DESC;FMTTYPE=text/html:&quot\;Cooking for 1 or 2&quot\; with Cindy Winter\, MHCS Dietary Director.&nbsp\; 
LOCATION:Memorial Health Care Systems - 300 N. Columbia Ave
UID:e.865.1396
SEQUENCE:3
DTSTAMP:20260422T184343Z
URL:https://business.cultivatesewardcounty.com/events/details/fridays-for-you-06-15-2012-1396
END:VEVENT

END:VCALENDAR
