BEGIN:VCALENDAR
VERSION:2.0
PRODID:-//ChamberMaster//Event Calendar 2.0//EN
METHOD:PUBLISH
X-PUBLISHED-TTL:P3D
REFRESH-INTERVAL:P3D
CALSCALE:GREGORIAN
BEGIN:VEVENT
DTSTART:20131221T180000Z
DTEND:20131221T200000Z
X-MICROSOFT-CDO-ALLDAYEVENT:FALSE
SUMMARY:FREE movie "Elf" @ the Rivoli Theatre
DESCRIPTION:***U.S.Cellular Family Film Festival***\n\n"Elf" is being brought back to the big screen in Seward for one showing! U.S. Cellular Seward is sponsoring this FREE movie at the Rivoli Theatre on Saturday\, Dec 21st @ NOON.
X-ALT-DESC;FMTTYPE=text/html:<strong><em>***U.S.Cellular Family Film Festival***</em></strong><br />\n&quot\;Elf&quot\; is being brought back to the big screen in Seward for one showing! U.S. Cellular Seward is sponsoring this FREE movie at the Rivoli Theatre on Saturday\, Dec 21st @ NOON.<br type="_moz" />\n
LOCATION:Rivoli Theatre
UID:e.865.3432
SEQUENCE:3
DTSTAMP:20260421T163519Z
URL:https://business.cultivatesewardcounty.com/events/details/free-movie-elf-the-rivoli-theatre-12-21-2013-3432
END:VEVENT

END:VCALENDAR
