BEGIN:VCALENDAR
VERSION:2.0
PRODID:-//ChamberMaster//Event Calendar 2.0//EN
METHOD:PUBLISH
X-PUBLISHED-TTL:P3D
REFRESH-INTERVAL:P3D
CALSCALE:GREGORIAN
BEGIN:VEVENT
DTSTART:20140118T180000Z
DTEND:20140118T200000Z
X-MICROSOFT-CDO-ALLDAYEVENT:FALSE
SUMMARY:FREE MOVIE- "BACK TO THE FUTURE" @ RIVOLI THEATRE
DESCRIPTION:***U.S. CELLULAR FAMILY FILM FESTIVAL***\n\nBack To the Future is being brought back to the big screen in Seward for 1 showing! US Cellular Seward is sponsoring this FREE movie at the Rivoli Theatre on Saturday\, January 18th at NOON.
X-ALT-DESC;FMTTYPE=text/html:***U.S. CELLULAR FAMILY FILM FESTIVAL***<br />\n<a aria-haspopup="true" aria-owns="js_24" data-hovercard="/ajax/hovercard/page.php?id=23919966078&amp\;extragetparams=%7B%22directed_target_id%22%3A0%7D" href="https://www.facebook.com/bttfseries" id="js_25" style="color: rgb(59\, 89\, 152)\; cursor: pointer\; text-decoration: none\; font-family: 'lucida grande'\, tahoma\, verdana\, arial\, sans-serif\; font-size: 13px\; line-height: 16px\;">Back To the Future</a><span style="color: rgb(51\, 51\, 51)\; font-family: 'lucida grande'\, tahoma\, verdana\, arial\, sans-serif\; font-size: 13px\; line-height: 16px\;">&nbsp\;is being brought back to the big screen in Seward for 1 showing!&nbsp\;</span><a data-hovercard="/ajax/hovercard/page.php?id=229308287156050&amp\;extragetparams=%7B%22directed_target_id%22%3A0%7D" href="https://www.facebook.com/uscellularseward" style="color: rgb(59\, 89\, 152)\; cursor: pointer\; text-decoration: none\; font-family: 'lucida grande'\, tahoma\, verdana\, arial\, sans-serif\; font-size: 13px\; line-height: 16px\;">US Cellular Seward</a><span style="color: rgb(51\, 51\, 51)\; font-family: 'lucida grande'\, tahoma\, verdana\, arial\, sans-serif\; font-size: 13px\; line-height: 16px\;">&nbsp\;is sponsoring this FREE movie at the&nbsp\;</span><a aria-haspopup="true" aria-owns="js_26" data-hovercard="/ajax/hovercard/page.php?id=116224828401507&amp\;extragetparams=%7B%22directed_target_id%22%3A0%7D" href="https://www.facebook.com/pages/Rivoli-Theatre/116224828401507" id="js_27" style="color: rgb(59\, 89\, 152)\; cursor: pointer\; text-decoration: none\; font-family: 'lucida grande'\, tahoma\, verdana\, arial\, sans-serif\; font-size: 13px\; line-height: 16px\;">Rivoli Theatre</a><span style="color: rgb(51\, 51\, 51)\; font-family: 'lucida grande'\, tahoma\, verdana\, arial\, sans-serif\; font-size: 13px\; line-height: 16px\;">&nbsp\;on Saturday\, January 18th at NOON.</span>
LOCATION:RIVOLI THEATRE
UID:e.865.3473
SEQUENCE:3
DTSTAMP:20260421T153321Z
URL:https://business.cultivatesewardcounty.com/events/details/free-movie-back-to-the-future-rivoli-theatre-01-18-2014-3473
END:VEVENT

END:VCALENDAR
