BEGIN:VCALENDAR
VERSION:2.0
PRODID:-//ChamberMaster//Event Calendar 2.0//EN
METHOD:PUBLISH
X-PUBLISHED-TTL:P3D
REFRESH-INTERVAL:P3D
CALSCALE:GREGORIAN
BEGIN:VEVENT
DTSTART:20120114T180000Z
DTEND:20120114T190000Z
X-MICROSOFT-CDO-ALLDAYEVENT:FALSE
SUMMARY:Free Candidate Workshop
DESCRIPTION:The Seward County League of Women Voters is hosting a free Candidate Workshop at\n\n12 Noon on Saturday\, January 14\, at the Seward Civic Center.  (Snow/rain date\n\nJan. 21) Former elected officials from Seward County will offer tips and answer\n\nquestions on how to organize and run a campaign. County Clerk Sherry Schweitzer\n\nwill explain the regulations governing elections and candidacies.\n\nLunch will beprovided.\n\nFor more information please call SCLWV President Ellen Beck at\n\n402-646-9112.\n\nPublic service is a great way to get involved with and help the\n\nlocal community. Please encourage employees\, friends and family to attend!
X-ALT-DESC;FMTTYPE=text/html:The Seward County League of Women Voters is hosting a free Candidate Workshop at<br />\n12 Noon on Saturday\, January 14\, at the Seward Civic Center.&nbsp\; (Snow/rain date<br />\nJan. 21) Former elected officials from Seward County will offer tips and answer<br />\nquestions on how to organize and run a campaign. County Clerk Sherry Schweitzer<br />\nwill explain the regulations governing elections and candidacies.<br />\nLunch will beprovided.<br />\nFor more information please call SCLWV President Ellen Beck at<br />\n402-646-9112.<br />\nPublic service is a great way to get involved with and help the<br />\nlocal community. Please encourage employees\, friends and family to attend!<br />\n<span _fck_bookmark="1" style="display: none">&nbsp\;</span>
LOCATION:Seward Civic Center 616 Bradford St. Seward\, NE 68434
UID:e.865.1200
SEQUENCE:3
DTSTAMP:20260424T111327Z
URL:https://business.cultivatesewardcounty.com/events/details/free-candidate-workshop-01-14-2012-1200
END:VEVENT

END:VCALENDAR
