BEGIN:VCALENDAR
VERSION:2.0
PRODID:-//ChamberMaster//Event Calendar 2.0//EN
METHOD:PUBLISH
X-PUBLISHED-TTL:P3D
REFRESH-INTERVAL:P3D
CALSCALE:GREGORIAN
BEGIN:VEVENT
DTSTART:20120925T000000Z
DTEND:20120925T010000Z
X-MICROSOFT-CDO-ALLDAYEVENT:FALSE
SUMMARY:Foster Care in Our Community
DESCRIPTION:Seward Memorial Library will host "Foster Care in Our Community" presented by Brandi Baldassano from the Department of Health and Human Services. General information about services will be shared and there will be time for questions. Everyone is welcome. This program is in conjunction with the 2012 All Seward Reads Together title\, The Language of Flowers.
X-ALT-DESC;FMTTYPE=text/html:Seward Memorial Library will host &quot\;Foster Care in Our Community&quot\; presented by Brandi Baldassano from the Department of Health and Human Services. General information about services will be shared and there will be time for questions. Everyone is welcome. This program is in conjunction with the 2012 <em>All Seward</em> <em>Reads Together</em> title\, <em>The Language of Flowers</em>.
LOCATION:Seward Memorial Library
UID:e.865.1701
SEQUENCE:3
DTSTAMP:20260422T124429Z
URL:https://business.cultivatesewardcounty.com/events/details/foster-care-in-our-community-09-24-2012-1701
END:VEVENT

END:VCALENDAR
