BEGIN:VCALENDAR
VERSION:2.0
PRODID:-//ChamberMaster//Event Calendar 2.0//EN
METHOD:PUBLISH
X-PUBLISHED-TTL:P3D
REFRESH-INTERVAL:P3D
CALSCALE:GREGORIAN
BEGIN:VEVENT
DTSTART:20110713T233000Z
DTEND:20110714T013000Z
X-MICROSOFT-CDO-ALLDAYEVENT:FALSE
SUMMARY:Food Safety Training
DESCRIPTION:People who prepare foods for others as child care providers\, organizations\, concession stand workers or even at the local church suppers often rely on cooking skills they use at home to prepare foods for hundreds.  That's not always a good idea.  If important food safety principles are not followed\, a fun-filled food related event could turn into a deadly disaster.\n\n	\n\n	Food service managers and employees are often trained in food safety through ServSafe and Employee ServSafe training.  Now the non-food professionals can learn all the important safe food techniques for meal preparation and service.  Preparing Food Safely for Child Care\, Churches\, and Concessions is a two hour class that covers the causes of food borne illnesses and the basic knowledge and skills of food safety as it relates to food preparation\, serving and storage in non-commercial food service settings\, such as homes\, churches\, and concession stands.\n\n	\n\n	This workshop is sponsored by the University of Nebraska-Lincoln Extension Office.  Amy Peterson\, MS RD\, Polk County Extension Educator\, is the class instructor.
X-ALT-DESC;FMTTYPE=text/html:<p>\n	People who prepare foods for others as child care providers\, organizations\, concession stand workers or even at the local church suppers often rely on cooking skills they use at home to prepare foods for hundreds.&nbsp\; That&#39\;s not always a good idea.&nbsp\; If important food safety principles are not followed\, a fun-filled food related event could turn into a deadly disaster.<br />\n	<br />\n	Food service managers and employees are often trained in food safety through ServSafe and Employee ServSafe training.&nbsp\; Now the non-food professionals can learn all the important safe food techniques for meal preparation and service.&nbsp\; Preparing Food Safely for Child Care\, Churches\, and Concessions is a two hour class that covers the causes of food borne illnesses and the basic knowledge and skills of food safety as it relates to food preparation\, serving and storage in non-commercial food service settings\, such as homes\, churches\, and concession stands.<br />\n	<br />\n	This workshop is sponsored by the University of Nebraska-Lincoln Extension Office.&nbsp\; Amy Peterson\, MS RD\, Polk County Extension Educator\, is the class instructor.</p>\n
LOCATION:Seward County Extension Office\, Seward\, NE
UID:e.865.1119
SEQUENCE:3
DTSTAMP:20260424T202700Z
URL:https://business.cultivatesewardcounty.com/events/details/food-safety-training-07-13-2011-1119
END:VEVENT

END:VCALENDAR
