BEGIN:VCALENDAR
VERSION:2.0
PRODID:-//ChamberMaster//Event Calendar 2.0//EN
METHOD:PUBLISH
X-PUBLISHED-TTL:P3D
REFRESH-INTERVAL:P3D
CALSCALE:GREGORIAN
BEGIN:VEVENT
DTSTART:20131115T000000Z
DTEND:20131115T023000Z
X-MICROSOFT-CDO-ALLDAYEVENT:FALSE
SUMMARY:Flower Mill Open House
DESCRIPTION:Flower Mill Open House from 6:00 pm to 8:30 pm\n\n\n\nhttp://www.theflowermillseward.com/
X-ALT-DESC;FMTTYPE=text/html:Flower Mill Open House from 6:00 pm to 8:30 pm<br />\n<br />\n<a href="http://www.theflowermillseward.com/">http://www.theflowermillseward.com/</a>
LOCATION:Flower Mill 230 South 5th St. Seward\, NE
UID:e.865.3392
SEQUENCE:3
DTSTAMP:20260421T191559Z
URL:https://business.cultivatesewardcounty.com/events/details/flower-mill-open-house-11-14-2013-3392
END:VEVENT

END:VCALENDAR
