BEGIN:VCALENDAR
VERSION:2.0
PRODID:-//ChamberMaster//Event Calendar 2.0//EN
METHOD:PUBLISH
X-PUBLISHED-TTL:P3D
REFRESH-INTERVAL:P3D
CALSCALE:GREGORIAN
BEGIN:VEVENT
DTSTART:20120803T000000Z
DTEND:20120803T010000Z
X-MICROSOFT-CDO-ALLDAYEVENT:FALSE
SUMMARY:Floral Painting with Rosemary
DESCRIPTION:Seward Memorial Library will host "Floral Painting with Rosemary" a program presented by a local artist. For many years Rosemary Thomas has used her painting skills to create beautiful floral designs on a variety of materials. Her favorite flower is the rose and it is often featured in her work. This event is in conjunction with the 2012 All Seward Reads Together title "The Language of Flowers."
X-ALT-DESC;FMTTYPE=text/html:Seward Memorial Library will host &quot\;Floral Painting with Rosemary&quot\; a program presented by a local artist. For many years Rosemary Thomas has used her painting skills to create beautiful floral designs on a variety of materials. Her favorite flower is the rose and it is often featured in her work. This event is in conjunction with the 2012 All Seward Reads Together title &quot\;The Language of Flowers.&quot\;
LOCATION:Seward Memorial Library
UID:e.865.1676
SEQUENCE:3
DTSTAMP:20260422T140427Z
URL:https://business.cultivatesewardcounty.com/events/details/floral-painting-with-rosemary-08-02-2012-1676
END:VEVENT

END:VCALENDAR
