BEGIN:VCALENDAR
VERSION:2.0
PRODID:-//ChamberMaster//Event Calendar 2.0//EN
METHOD:PUBLISH
X-PUBLISHED-TTL:P3D
REFRESH-INTERVAL:P3D
CALSCALE:GREGORIAN
BEGIN:VEVENT
DTSTART:20110702T020000Z
DTEND:20110702T023000Z
X-MICROSOFT-CDO-ALLDAYEVENT:FALSE
SUMMARY:Fireworks at Ridgewood
DESCRIPTION:The show will be on the lawn between buildings.  Bring your blankets and lawn chairs and enjoy the show.  Ice cream sandwiches and lemonade provided for all spectators!\n\n	\n\n	Rain date:  Saturday\, July 2 at 9:00 pm
X-ALT-DESC;FMTTYPE=text/html:<p>\n	The show will be on the lawn between buildings.&nbsp\; Bring your blankets and lawn chairs and enjoy the show.&nbsp\; Ice cream sandwiches and lemonade provided for all spectators!<br />\n	<br />\n	Rain date:&nbsp\; Saturday\, July 2 at 9:00 pm</p>\n
LOCATION:Ridgewood Rehabilitation & Care Center 446 & 624 Pinewood Avenue Seward\, NE 68434
UID:e.865.1124
SEQUENCE:3
DTSTAMP:20260424T202408Z
URL:https://business.cultivatesewardcounty.com/events/details/fireworks-at-ridgewood-07-01-2011-1124
END:VEVENT

END:VCALENDAR
