BEGIN:VCALENDAR
VERSION:2.0
PRODID:-//ChamberMaster//Event Calendar 2.0//EN
METHOD:PUBLISH
X-PUBLISHED-TTL:P3D
REFRESH-INTERVAL:P3D
CALSCALE:GREGORIAN
BEGIN:VEVENT
DTSTART:20131006T200000Z
DTEND:20131006T210000Z
X-MICROSOFT-CDO-ALLDAYEVENT:FALSE
SUMMARY:Finishing the Book
DESCRIPTION:The community is invited to celebrate the opening of the lower level of the Seward Memorial Library for a dedication which will include recognition of the Seward Library Foundation members\, donors and other local people who impacted this project. Mayor Josh Eickmeier will participate in the short program as well as special guest Sally Ganem\, Nebraska's First Lady. Library Director Becky Baker along with the staff and Library Board will be present to assist guest after the ribbon cutting event. Everyone is invited downstairs for refreshments\, souvenirs and viewing of the new lower level area. Ten years ago the present facility was dedicated after a successful "Writing the Next Chapter" campaign. Now the community can appreciate the entire effort as "Finishing the Book" concludes.
X-ALT-DESC;FMTTYPE=text/html:The community is invited to celebrate the opening of the lower level of the Seward Memorial Library for a dedication which will include recognition of the Seward Library Foundation members\, donors and other local people who impacted this project. Mayor Josh Eickmeier will participate in the short program as well as special guest Sally Ganem\, Nebraska&#39\;s First Lady. Library Director Becky Baker along with the staff and Library Board will be present to assist guest after the ribbon cutting event. Everyone is invited downstairs for refreshments\, souvenirs and viewing of the new lower level area. Ten years ago the present facility was dedicated after a successful &quot\;Writing the Next Chapter&quot\; campaign. Now the community can appreciate the entire effort as &quot\;Finishing the Book&quot\; concludes.
LOCATION:Seward Memorial Library
UID:e.865.3263
SEQUENCE:3
DTSTAMP:20260421T192342Z
URL:https://business.cultivatesewardcounty.com/events/details/finishing-the-book-10-06-2013-3263
END:VEVENT

END:VCALENDAR
