BEGIN:VCALENDAR
VERSION:2.0
PRODID:-//ChamberMaster//Event Calendar 2.0//EN
METHOD:PUBLISH
X-PUBLISHED-TTL:P3D
REFRESH-INTERVAL:P3D
CALSCALE:GREGORIAN
BEGIN:VEVENT
DTSTART:20140215T153000Z
DTEND:20140215T233000Z
X-MICROSOFT-CDO-ALLDAYEVENT:FALSE
SUMMARY:Fancy Fun on the 15th at T PARTY PLACE Valentine Tea Party
DESCRIPTION:Valentine Tea Party for Dolls\, Girls\, Grandmas\, Aunties\, Moms. \nChoose between a scrumptious "Sweet and Savory Tea" consisting of a variety of finger sandwiches\, scones\, and assorted sweets served with tea or lemonade or\n\n"Cream Tea" consisting of traditional English scones with sweet cream and jam served with tea or lemonade.\n\n\n\nDolls will be served miniature portions at no charge.\n\n\n\nReservations are required.
X-ALT-DESC;FMTTYPE=text/html:<h3>\n	<strong>Valentine Tea Party for Dolls\, Girls\, Grandmas\, Aunties\, Moms. </strong></h3>\nChoose between a scrumptious &quot\;Sweet and Savory Tea&quot\; consisting of a variety of finger sandwiches\, scones\, and assorted sweets served with tea or lemonade or<br />\n&quot\;Cream Tea&quot\; consisting of traditional English scones with sweet cream and jam served with tea or lemonade.<br />\n<br />\nDolls will be served miniature portions at no charge.<br />\n<br />\n<strong>Reservations are required.</strong><br />\n<br />\n
LOCATION:T Party Place 430 Seward St Seward NE
UID:e.865.3502
SEQUENCE:3
DTSTAMP:20260421T142508Z
URL:https://business.cultivatesewardcounty.com/events/details/fancy-fun-on-the-15th-at-t-party-place-valentine-tea-party-02-15-2014-3502
END:VEVENT

END:VCALENDAR
