BEGIN:VCALENDAR
VERSION:2.0
PRODID:-//ChamberMaster//Event Calendar 2.0//EN
METHOD:PUBLISH
X-PUBLISHED-TTL:P3D
REFRESH-INTERVAL:P3D
CALSCALE:GREGORIAN
BEGIN:VEVENT
DTSTART;VALUE=DATE:20140515
DTEND;VALUE=DATE:20140516
TRANSP:TRANSPARENT
X-MICROSOFT-CDO-ALLDAYEVENT:TRUE
SUMMARY:Fancy Fun on the 15th at T PARTY PLACE- Tea for Moms
DESCRIPTION:The official Mother!s Day is over\, but Mom still deserves a treat. Menu choices: Cream Tea (traditional English scones with sweet cream & jam) OR if you call in advance\, you can order Afternnon Tea (with sweet & savory) or Sweet Tea (with sweets). If Mom can't come during the day and you want to come in the evening\, call and we can make arrangements.
X-ALT-DESC;FMTTYPE=text/html:The official Mother!s Day is over\, but Mom still deserves a treat. Menu choices: Cream Tea (traditional English scones with sweet cream &amp\; jam) OR if you call in advance\, you can order Afternnon Tea (with sweet &amp\; savory) or Sweet Tea (with sweets). If Mom can&#39\;t come during the day and you want to come in the evening\, call and we can make arrangements.
LOCATION:430 Seward St Seward NE
UID:e.865.3920
SEQUENCE:3
DTSTAMP:20260421T095804Z
URL:https://business.cultivatesewardcounty.com/events/details/fancy-fun-on-the-15th-at-t-party-place-tea-for-moms-05-15-2014-3920
END:VEVENT

END:VCALENDAR
