BEGIN:VCALENDAR
VERSION:2.0
PRODID:-//ChamberMaster//Event Calendar 2.0//EN
METHOD:PUBLISH
X-PUBLISHED-TTL:P3D
REFRESH-INTERVAL:P3D
CALSCALE:GREGORIAN
BEGIN:VEVENT
DTSTART:20140415T143000Z
DTEND:20140415T223000Z
X-MICROSOFT-CDO-ALLDAYEVENT:FALSE
SUMMARY:Fancy Fun on the 15th at T PARTY PLACE tax relief day
DESCRIPTION:Fancy Fun on the 15th. Traditional English Cream Tea which consists of tea (or lemonade) with handmade scones with sweet cream and strawberry jam.\n\n\n\nReservations not required but are recommended to be sure you can be accommodated.\n\n\n\nApril 15 is tax day and since you have paid enough taxes\, T Party Place will pay the sales tax on your Cream Tea.\n\n.
X-ALT-DESC;FMTTYPE=text/html:Fancy Fun on the 15th. Traditional English Cream Tea which consists of&nbsp\;tea (or lemonade) with handmade scones with sweet cream and strawberry jam.<br />\n<br />\nReservations not required but are recommended to be sure you can be accommodated.<br />\n<br />\nApril 15 is tax day and since you have paid enough taxes\, T Party Place will pay&nbsp\;the sales tax on your Cream Tea.<br />\n.
LOCATION:T Party Place 430 Seward St Seward\, NE
UID:e.865.3557
SEQUENCE:3
DTSTAMP:20260421T130646Z
URL:https://business.cultivatesewardcounty.com/events/details/fancy-fun-on-the-15th-at-t-party-place-tax-relief-day-04-15-2014-3557
END:VEVENT

END:VCALENDAR
