BEGIN:VCALENDAR
VERSION:2.0
PRODID:-//ChamberMaster//Event Calendar 2.0//EN
METHOD:PUBLISH
X-PUBLISHED-TTL:P3D
REFRESH-INTERVAL:P3D
CALSCALE:GREGORIAN
BEGIN:VEVENT
DTSTART:20131215T153000Z
DTEND:20131215T233000Z
X-MICROSOFT-CDO-ALLDAYEVENT:FALSE
SUMMARY:Fancy Fun on the 15th at T PARTY PLACE
DESCRIPTION:Fancy Fun on the 15th.  Traditional English Cream Tea which consists of tea (or lemonade) with handmade scones with sweet cream and strawberry jam.  Reservations are not required\, but are recommended to be sure you can be accomodated.  Special requests--i.e. High Tea\, require 24 hr. advance notice.  Other dates available for private events by reservation only.
X-ALT-DESC;FMTTYPE=text/html:<strong>Fancy Fun on the 15th.</strong>&nbsp\; <u>Traditional English Cream Tea </u>which consists of tea (or lemonade) with handmade scones with sweet cream and strawberry jam.&nbsp\; <em>Reservations are&nbsp\;not required\, but are&nbsp\;recommended to be sure you can be accomodated.</em>&nbsp\; Special requests--i.e. High Tea\, require 24 hr. advance notice.&nbsp\; <strong>Other dates available for private events by reservation only.</strong>
LOCATION:T Party Place 430 Seward St. Seward\, NE
UID:e.865.3420
SEQUENCE:3
DTSTAMP:20260421T180133Z
URL:https://business.cultivatesewardcounty.com/events/details/fancy-fun-on-the-15th-at-t-party-place-12-15-2013-3420
END:VEVENT

END:VCALENDAR
