BEGIN:VCALENDAR
VERSION:2.0
PRODID:-//ChamberMaster//Event Calendar 2.0//EN
METHOD:PUBLISH
X-PUBLISHED-TTL:P3D
REFRESH-INTERVAL:P3D
CALSCALE:GREGORIAN
BEGIN:VEVENT
DTSTART;VALUE=DATE:20131015
DTEND;VALUE=DATE:20131016
TRANSP:TRANSPARENT
X-MICROSOFT-CDO-ALLDAYEVENT:TRUE
SUMMARY:Fancy Fun on the 15th at T PARTY PLACE
DESCRIPTION:Fancy Fun on the 15th.  Traditional English Cream Tea which consists of tea (or lemonade) with handmade scones with sweet cream and strawberry jam. \n\nReservations recommended but not required.  Special requests--i.e. high tea\, require 24 hr. advance notice.\n\n\n\nOther dates available for private events by reservation only.
X-ALT-DESC;FMTTYPE=text/html:<span style="font-size: 10.5pt\;"><span style="color: rgb(51\, 51\, 51)\;"><span style="font-family: calibri\;">Fancy Fun on the 15th.&nbsp\; Traditional English Cream Tea which consists of&nbsp\;tea (or lemonade) with handmade scones with sweet cream&nbsp\;and strawberry&nbsp\;jam.&nbsp\;<br />\nReservations recommended but not required.&nbsp\; Special requests--i.e.&nbsp\;high tea\, require 24 hr. advance notice.</span></span></span><br />\n<br />\nOther dates available for private events by reservation only.
LOCATION:T Party Place 430 Seward St Seward\, NE
UID:e.865.2907
SEQUENCE:3
DTSTAMP:20260421T193212Z
URL:https://business.cultivatesewardcounty.com/events/details/fancy-fun-on-the-15th-at-t-party-place-10-15-2013-2907
END:VEVENT

END:VCALENDAR
