BEGIN:VCALENDAR
VERSION:2.0
PRODID:-//ChamberMaster//Event Calendar 2.0//EN
METHOD:PUBLISH
X-PUBLISHED-TTL:P3D
REFRESH-INTERVAL:P3D
CALSCALE:GREGORIAN
BEGIN:VEVENT
DTSTART:20130715T143000Z
DTEND:20130715T223000Z
X-MICROSOFT-CDO-ALLDAYEVENT:FALSE
SUMMARY:Fancy Fun on the 15th at T PARTY PLACE
DESCRIPTION:Fancy Fun on the 15th.  Traditional English Cream Tea.  Reservations recommended but not required.  Special requests--i.e. high tea\, require advance notice.
X-ALT-DESC;FMTTYPE=text/html:Fancy Fun on the 15th.&nbsp\; Traditional English Cream Tea.&nbsp\; Reservations recommended but not required.&nbsp\; Special requests--i.e.&nbsp\;high tea\, require advance notice.
LOCATION:T PARTY PLACE 430 Seward St
UID:e.865.2830
SEQUENCE:3
DTSTAMP:20260422T003117Z
URL:https://business.cultivatesewardcounty.com/events/details/fancy-fun-on-the-15th-at-t-party-place-07-15-2013-2830
END:VEVENT

END:VCALENDAR
