BEGIN:VCALENDAR
VERSION:2.0
PRODID:-//ChamberMaster//Event Calendar 2.0//EN
METHOD:PUBLISH
X-PUBLISHED-TTL:P3D
REFRESH-INTERVAL:P3D
CALSCALE:GREGORIAN
BEGIN:VEVENT
DTSTART:20130415T143000Z
DTEND:20130415T223000Z
X-MICROSOFT-CDO-ALLDAYEVENT:FALSE
SUMMARY:Fancy Fun on the 15th at T PARTY PLACE
DESCRIPTION:Cream Tea
X-ALT-DESC;FMTTYPE=text/html:Cream Tea
LOCATION:T Party Place 430 Seward St Seward NE
UID:e.865.2081
SEQUENCE:3
DTSTAMP:20260422T031830Z
URL:https://business.cultivatesewardcounty.com/events/details/fancy-fun-on-the-15th-at-t-party-place-04-15-2013-2081
END:VEVENT

END:VCALENDAR
