BEGIN:VCALENDAR
VERSION:2.0
PRODID:-//ChamberMaster//Event Calendar 2.0//EN
METHOD:PUBLISH
X-PUBLISHED-TTL:P3D
REFRESH-INTERVAL:P3D
CALSCALE:GREGORIAN
BEGIN:VEVENT
DTSTART:20140315T143000Z
DTEND:20140315T223000Z
X-MICROSOFT-CDO-ALLDAYEVENT:FALSE
SUMMARY:Fancy Fun on the 15th at T PARTY PLACE
DESCRIPTION:Fancy Fun on the 15th.  Traditional English Cream Tea which consists of tea (or lemonade) with handmade scones with sweet cream and strawberry jam.\n\n\n\nReservations are not required\, but are recommended to be sure you can be accommodated.\n\n\n\nIf you go to Liberty House on March 15 before coming to T Party Place\, you can get a coupon for a 10% discount.  If you come to T Party Place before going to Liberty House\, you will get a coupon for another chance for the drawing to win the pot of gold.
X-ALT-DESC;FMTTYPE=text/html:Fancy Fun on the 15th.&nbsp\; Traditional English Cream Tea which consists of tea (or lemonade) with handmade scones with sweet cream and strawberry jam.<br />\n<br />\nReservations are not required\, but are&nbsp\;recommended to be sure you can be accommodated.<br />\n<br />\nIf you go to Liberty House on March 15 before coming to T Party Place\, you can get a coupon for a 10% discount.&nbsp\; If you come to T Party Place before going to Liberty House\, you will get a coupon for another chance for the drawing to win the pot of gold.
LOCATION:T Party Place 430 Seward St Seward\, NE
UID:e.865.3556
SEQUENCE:3
DTSTAMP:20260421T130422Z
URL:https://business.cultivatesewardcounty.com/events/details/fancy-fun-on-the-15th-at-t-party-place-03-15-2014-3556
END:VEVENT

END:VCALENDAR
