BEGIN:VCALENDAR
VERSION:2.0
PRODID:-//ChamberMaster//Event Calendar 2.0//EN
METHOD:PUBLISH
X-PUBLISHED-TTL:P3D
REFRESH-INTERVAL:P3D
CALSCALE:GREGORIAN
BEGIN:VEVENT
DTSTART:20140115T153000Z
DTEND:20140115T233000Z
X-MICROSOFT-CDO-ALLDAYEVENT:FALSE
SUMMARY:Fancy Fun on the 15th at T PARTY PLACE
DESCRIPTION:Fancy Fun on the 15th occurs each month.  On January 15th there will be a Traditonal English Cream Tea which consists of tea served with handmade scones you top with sweet cream and strawberry jam.\n\n\n\nReservations are not required\, but are recommended to be sure you can be accomodated.  \n\n\n\n\n\nOther dates available for private events by reservation only.
X-ALT-DESC;FMTTYPE=text/html:Fancy Fun on the 15th&nbsp\;occurs each month.&nbsp\; On January 15th there will be a Traditonal English Cream Tea which consists of tea served with handmade scones you top with sweet cream and strawberry jam.<br />\n<br />\nReservations are not required\, but are recommended to be sure you can be accomodated.&nbsp\;&nbsp\;<br />\n<br />\n<br />\nOther dates available for private events by reservation only.&nbsp\;<br />\n
LOCATION:T Party Place 430 Seward St Seward\, NE
UID:e.865.3470
SEQUENCE:3
DTSTAMP:20260421T153439Z
URL:https://business.cultivatesewardcounty.com/events/details/fancy-fun-on-the-15th-at-t-party-place-01-15-2014-3470
END:VEVENT

END:VCALENDAR
