BEGIN:VCALENDAR
VERSION:2.0
PRODID:-//ChamberMaster//Event Calendar 2.0//EN
METHOD:PUBLISH
X-PUBLISHED-TTL:P3D
REFRESH-INTERVAL:P3D
CALSCALE:GREGORIAN
BEGIN:VEVENT
DTSTART;VALUE=DATE:20130515
DTEND;VALUE=DATE:20130516
TRANSP:TRANSPARENT
X-MICROSOFT-CDO-ALLDAYEVENT:TRUE
SUMMARY:Fancy Fun on the 15th
DESCRIPTION:Cream Tea
X-ALT-DESC;FMTTYPE=text/html:Cream Tea
LOCATION:T Party Place 430 Seward St. Seward\, NE
UID:e.865.2140
SEQUENCE:3
DTSTAMP:20260422T014403Z
URL:https://business.cultivatesewardcounty.com/events/details/fancy-fun-on-the-15th-05-15-2013-2140
END:VEVENT

END:VCALENDAR
