BEGIN:VCALENDAR
VERSION:2.0
PRODID:-//ChamberMaster//Event Calendar 2.0//EN
METHOD:PUBLISH
X-PUBLISHED-TTL:P3D
REFRESH-INTERVAL:P3D
CALSCALE:GREGORIAN
BEGIN:VEVENT
DTSTART:20140311T224500Z
DTEND:20140312T003000Z
X-MICROSOFT-CDO-ALLDAYEVENT:FALSE
SUMMARY:Family Night by UNL Extension Office
DESCRIPTION:Family Night by UNL Extension Office  -  a night for parents and their children to relax and enjoy a free meal followed by a presentation for parents while children play under the supervision of Concordia University students and senior high students.  This event is open to all families in the Seward community.\n\n\n\nSpeaker is Amy Peterson\, MS RD\, UNL Extension Educator - explaining how to make meal time family time and other topics about food and children.
X-ALT-DESC;FMTTYPE=text/html:Family Night by UNL Extension Office&nbsp\; -&nbsp\; a night for parents and their children to relax and enjoy a free meal followed by a presentation for parents while children play under the supervision of Concordia University students and senior high students.&nbsp\;&nbsp\;This event is open to all families in the Seward community.<br />\n<br />\nSpeaker is Amy Peterson\, MS RD\, UNL Extension Educator - explaining how to make meal time family time and other topics about food and children.
LOCATION:Seward Civic Center 616 Bradford St. Seward\, NE
UID:e.865.3549
SEQUENCE:3
DTSTAMP:20260421T130422Z
URL:https://business.cultivatesewardcounty.com/events/details/family-night-by-unl-extension-office-03-11-2014-3549
END:VEVENT

END:VCALENDAR
