BEGIN:VCALENDAR
VERSION:2.0
PRODID:-//ChamberMaster//Event Calendar 2.0//EN
METHOD:PUBLISH
X-PUBLISHED-TTL:P3D
REFRESH-INTERVAL:P3D
CALSCALE:GREGORIAN
BEGIN:VEVENT
DTSTART:20131201T210000Z
DTEND:20131201T233000Z
X-MICROSOFT-CDO-ALLDAYEVENT:FALSE
SUMMARY:Family Christmas in Milford
DESCRIPTION:Tour of Homes. Rides offered by Seward County Transit beginning at Linden Village. Refreshments at Linden Village Community Room. Tour Linden Village grounds. Lighting of the Christmas Tree\, Caroling\, Live Nativity\, Horse Drawn Buggy Rides with Belgian Horses.
X-ALT-DESC;FMTTYPE=text/html:Tour of Homes. Rides offered by Seward County Transit beginning at Linden Village. Refreshments at Linden Village Community Room. Tour Linden Village grounds. Lighting of the Christmas Tree\, Caroling\, Live Nativity\, Horse Drawn Buggy Rides with Belgian Horses. 
LOCATION:Events at Linden Village. Tours of five homes around town.
UID:e.865.3418
SEQUENCE:3
DTSTAMP:20260421T163421Z
URL:https://business.cultivatesewardcounty.com/events/details/family-christmas-in-milford-12-01-2013-3418
END:VEVENT

END:VCALENDAR
