BEGIN:VCALENDAR
VERSION:2.0
PRODID:-//ChamberMaster//Event Calendar 2.0//EN
METHOD:PUBLISH
X-PUBLISHED-TTL:P3D
REFRESH-INTERVAL:P3D
CALSCALE:GREGORIAN
BEGIN:VEVENT
DTSTART:20120419T000000Z
DTEND:20120419T010000Z
X-MICROSOFT-CDO-ALLDAYEVENT:FALSE
SUMMARY:Faculty Recital featuring Dr. Christopher Nichols
DESCRIPTION:Dr. Christopher Nichols\, instructor of clarinet\, saxophone\, woodwind techniques and Chamber Orchestra director\, will give a faculty recital. He will be joined by Dr. Robert Edwards on piano.
X-ALT-DESC;FMTTYPE=text/html:Dr. Christopher Nichols\, instructor of clarinet\, saxophone\, woodwind techniques and Chamber Orchestra director\, will give a faculty recital. He will be joined by Dr. Robert Edwards on piano.
LOCATION:Music Center recital hall\, Concordia University
UID:e.865.1387
SEQUENCE:3
DTSTAMP:20260422T200857Z
URL:https://business.cultivatesewardcounty.com/events/details/faculty-recital-featuring-dr-christopher-nichols-04-18-2012-1387
END:VEVENT

END:VCALENDAR
