BEGIN:VCALENDAR
VERSION:2.0
PRODID:-//ChamberMaster//Event Calendar 2.0//EN
METHOD:PUBLISH
X-PUBLISHED-TTL:P3D
REFRESH-INTERVAL:P3D
CALSCALE:GREGORIAN
BEGIN:VEVENT
DTSTART;VALUE=DATE:20110503
DTEND;VALUE=DATE:20110504
TRANSP:TRANSPARENT
X-MICROSOFT-CDO-ALLDAYEVENT:TRUE
SUMMARY:Event at THE OPTIMIST CLUB OF SEWARD NEBRASKA
DESCRIPTION:Trash pick-up\, then dinner at Chez Bubbas in Goehner
X-ALT-DESC;FMTTYPE=text/html:Trash pick-up\, then dinner at Chez Bubbas in Goehner
LOCATION:Seward\, Nebraska\, at Wolvin's corner
UID:e.865.1068
SEQUENCE:3
DTSTAMP:20260424T231925Z
URL:https://business.cultivatesewardcounty.com/events/details/event-at-the-optimist-club-of-seward-nebraska-05-03-2011-1068
END:VEVENT

END:VCALENDAR
