BEGIN:VCALENDAR
VERSION:2.0
PRODID:-//ChamberMaster//Event Calendar 2.0//EN
METHOD:PUBLISH
X-PUBLISHED-TTL:P3D
REFRESH-INTERVAL:P3D
CALSCALE:GREGORIAN
BEGIN:VEVENT
DTSTART:20131111T153000Z
DTEND:20131111T233000Z
X-MICROSOFT-CDO-ALLDAYEVENT:FALSE
SUMMARY:Event at T PARTY PLACE
DESCRIPTION:Fancy Fun on Veteran's Day. Traditional English Cream Tea which consists of tea (or lemonade) with handmade scones with sweet cream and strawberry jam. Also offering Sweet and Savory English "Afternoon Tea" which includes finger sandwiches. Reservations are not required\, but are recommended to be sure you can be accomodated. Other dates available for private events by reservation only.  Sw    E E
X-ALT-DESC;FMTTYPE=text/html:<strong><span style="display: none\;">&nbsp\;</span>Fancy Fun on Veteran&#39\;s Day</strong>. <u>Traditional English Cream Tea </u>which consists of tea (or lemonade) with handmade scones with sweet cream and strawberry jam. Also offering <u>Sweet and Savory English &quot\;Afternoon Tea&quot\;</u> which includes finger sandwiches. <em>Reservations are not required\, but are&nbsp\;recommended to be sure you can be accomodated.&nbsp\;<strong><em>Other dates available for private events by reservation only.</em></strong><span style="display: none\;">&nbsp\;</span><span style="display: none\;">&nbsp\;Sw&nbsp\;&nbsp\;&nbsp\;&nbsp\;E E</span></em><span style="display: none\;">&nbsp\;</span><span style="display: none\;">&nbsp\;</span><span style="display: none\;"><em><u>&nbsp\;&nbsp\;</u></em>&nbsp\;</span><span style="display: none\;">&nbsp\;</span>
LOCATION:T Party Place 430 Seward St Seward\, NE
UID:e.865.3419
SEQUENCE:3
DTSTAMP:20260421T191803Z
URL:https://business.cultivatesewardcounty.com/events/details/event-at-t-party-place-11-11-2013-3419
END:VEVENT

END:VCALENDAR
