BEGIN:VCALENDAR
VERSION:2.0
PRODID:-//ChamberMaster//Event Calendar 2.0//EN
METHOD:PUBLISH
X-PUBLISHED-TTL:P3D
REFRESH-INTERVAL:P3D
CALSCALE:GREGORIAN
BEGIN:VEVENT
DTSTART:20130615T143000Z
DTEND:20130615T223000Z
X-MICROSOFT-CDO-ALLDAYEVENT:FALSE
SUMMARY:Event at T PARTY PLACE
DESCRIPTION:Cream Tea\n\nTraditional English Cream Tea consisting of handmade scones with sweet cream and jam.  Relax as long as you desire.  Come with friends or alone. Reservations suggested but not required.
X-ALT-DESC;FMTTYPE=text/html:Cream Tea<br />\nTraditional English Cream Tea&nbsp\;consisting&nbsp\;of handmade scones with sweet cream and jam.&nbsp\; Relax as long as you desire.&nbsp\; Come with friends or alone. Reservations suggested but not required.<br />\n
LOCATION:T Party Place 430 Seward St
UID:e.865.2150
SEQUENCE:3
DTSTAMP:20260422T002953Z
URL:https://business.cultivatesewardcounty.com/events/details/event-at-t-party-place-06-15-2013-2150
END:VEVENT

END:VCALENDAR
