BEGIN:VCALENDAR
VERSION:2.0
PRODID:-//ChamberMaster//Event Calendar 2.0//EN
METHOD:PUBLISH
X-PUBLISHED-TTL:P3D
REFRESH-INTERVAL:P3D
CALSCALE:GREGORIAN
BEGIN:VEVENT
DTSTART:20111125T033000Z
DTEND:20111125T090000Z
X-MICROSOFT-CDO-ALLDAYEVENT:FALSE
SUMMARY:Event at JD'S COFFEE SHOP
DESCRIPTION:Thanksgiving Evening/Holiday Event\n\n	\n\n	\n\n	JD's Coffee Shop\n\n	\n\n	\n\n	Will be open from\n\n	\n\n	9:30 PM-3AM\n\n	\n\n	\n\n	Stop by and get a Yummy Coffee before you start your Shopping Extravaganza!\n\n	\n\n	**Limited Pastries Available
X-ALT-DESC;FMTTYPE=text/html:<p style="text-align: center">\n	<span style="font-size: 26px"><u><span style="color: #800000"><strong>Thanksgiving Evening/Holiday Event</strong></span></u></span><br />\n	<br />\n	<br />\n	<span style="font-size: 22px"><strong><span style="color: #8b4513">JD&#39\;s Coffee Shop</span></strong></span><br />\n	<br />\n	<br />\n	<span style="font-size: 20px"><strong>Will be open from</strong></span><br />\n	<br />\n	<span style="font-size: 22px"><strong><span style="color: #008000">9:30 PM-3AM</span><br />\n	<br />\n	<br />\n	<span style="font-size: 18px">Stop by and get a Yummy Coffee before you start your Shopping Extravaganza!<br />\n	<br />\n	<span style="font-size: 14px">**Limited Pastries Available</span></span></strong></span></p>
LOCATION:522 Seward St.
UID:e.865.1164
SEQUENCE:3
DTSTAMP:20260424T141519Z
URL:https://business.cultivatesewardcounty.com/events/details/event-at-jd-s-coffee-shop-11-24-2011-1164
END:VEVENT

END:VCALENDAR
