BEGIN:VCALENDAR
VERSION:2.0
PRODID:-//ChamberMaster//Event Calendar 2.0//EN
METHOD:PUBLISH
X-PUBLISHED-TTL:P3D
REFRESH-INTERVAL:P3D
CALSCALE:GREGORIAN
BEGIN:VEVENT
DTSTART:20110714T223000Z
DTEND:20110714T233000Z
X-MICROSOFT-CDO-ALLDAYEVENT:FALSE
SUMMARY:Event at CHAPTERS BOOKS & GIFTS
DESCRIPTION:Spend an hour with author Tracy Seeley as she reads from and discusses her new memoir\, "My Ruby Slippers\," at Chapters Books & Gifts.  Discussion will be followed by refreshments and book signing.
X-ALT-DESC;FMTTYPE=text/html:Spend an hour with author Tracy Seeley as she reads from and discusses her new memoir\, &quot\;My Ruby Slippers\,&quot\; at Chapters Books &amp\; Gifts.&nbsp\; Discussion will be followed by refreshments and book signing.
LOCATION:Chapters Books & Gifts\, 548 Seward St.\, Seward
UID:e.865.1125
SEQUENCE:3
DTSTAMP:20260424T220301Z
URL:https://business.cultivatesewardcounty.com/events/details/event-at-chapters-books-gifts-07-14-2011-1125
END:VEVENT

END:VCALENDAR
