BEGIN:VCALENDAR
VERSION:2.0
PRODID:-//ChamberMaster//Event Calendar 2.0//EN
METHOD:PUBLISH
X-PUBLISHED-TTL:P3D
REFRESH-INTERVAL:P3D
CALSCALE:GREGORIAN
BEGIN:VEVENT
DTSTART:20110707T000000Z
DTEND:20110707T020000Z
X-MICROSOFT-CDO-ALLDAYEVENT:FALSE
SUMMARY:Event at CHAPTERS BOOKS & GIFTS
DESCRIPTION:Mini-workshop with bestselling author Sarah Ban Breathnach\, author of "Simple Abundance" and "Peace and Plenty."
X-ALT-DESC;FMTTYPE=text/html:Mini-workshop with bestselling author Sarah Ban Breathnach\, author of &quot\;Simple Abundance&quot\; and &quot\;Peace and Plenty.&quot\;
LOCATION:Seward Civic Center
UID:e.865.1126
SEQUENCE:3
DTSTAMP:20260424T220245Z
URL:https://business.cultivatesewardcounty.com/events/details/event-at-chapters-books-gifts-07-06-2011-1126
END:VEVENT

END:VCALENDAR
