BEGIN:VCALENDAR
VERSION:2.0
PRODID:-//ChamberMaster//Event Calendar 2.0//EN
METHOD:PUBLISH
X-PUBLISHED-TTL:P3D
REFRESH-INTERVAL:P3D
CALSCALE:GREGORIAN
BEGIN:VEVENT
DTSTART;VALUE=DATE:20110701
DTEND;VALUE=DATE:20110702
TRANSP:TRANSPARENT
X-MICROSOFT-CDO-ALLDAYEVENT:TRUE
SUMMARY:Event at AWE SALON/TAN EXPRESS
DESCRIPTION:Cuts for a Cause Fundraising Event for the local American Red Cross.  Awe Salon will be giving FREE haircuts with a $10 cash donation to the American Red Cross.  July 1st from 1pm-4pm at 139 N 6th Street\, Seward.  A bake sale and Brisket Sandwich Meal is available too.  All ages can participate.
X-ALT-DESC;FMTTYPE=text/html:Cuts for a Cause Fundraising Event for the local American Red Cross.&nbsp\; Awe Salon will be giving FREE haircuts with a $10 cash donation to the American Red Cross.&nbsp\; July 1st from 1pm-4pm at 139 N 6th Street\, Seward.&nbsp\; A bake sale and Brisket Sandwich Meal is available too.&nbsp\; All ages can participate.
LOCATION:139 N 6th Street\, Seward
UID:e.865.1103
SEQUENCE:3
DTSTAMP:20260424T202548Z
URL:https://business.cultivatesewardcounty.com/events/details/event-at-awe-salon-tan-express-07-01-2011-1103
END:VEVENT

END:VCALENDAR
