BEGIN:VCALENDAR
VERSION:2.0
PRODID:-//ChamberMaster//Event Calendar 2.0//EN
METHOD:PUBLISH
X-PUBLISHED-TTL:P3D
REFRESH-INTERVAL:P3D
CALSCALE:GREGORIAN
BEGIN:VEVENT
DTSTART;VALUE=DATE:20130327
DTEND;VALUE=DATE:20130328
TRANSP:TRANSPARENT
X-MICROSOFT-CDO-ALLDAYEVENT:TRUE
SUMMARY:ESU Senior High Quiz Bowl
DESCRIPTION:ESU Senior High Quiz Bowl
X-ALT-DESC;FMTTYPE=text/html:<p>\n	ESU Senior High Quiz Bowl</p>\n
LOCATION:Seward Civic Center Corner of Bradford St. and Highway 15 Seward\, NE
UID:e.865.1904
SEQUENCE:3
DTSTAMP:20260422T044544Z
URL:https://business.cultivatesewardcounty.com/events/details/esu-senior-high-quiz-bowl-03-27-2013-1904
END:VEVENT

END:VCALENDAR
