BEGIN:VCALENDAR
VERSION:2.0
PRODID:-//ChamberMaster//Event Calendar 2.0//EN
METHOD:PUBLISH
X-PUBLISHED-TTL:P3D
REFRESH-INTERVAL:P3D
CALSCALE:GREGORIAN
BEGIN:VEVENT
DTSTART;VALUE=DATE:20130403
DTEND;VALUE=DATE:20130404
TRANSP:TRANSPARENT
X-MICROSOFT-CDO-ALLDAYEVENT:TRUE
SUMMARY:ESU Junior High Quiz Bowl
DESCRIPTION:ESU Jr. High Quiz Bowl
X-ALT-DESC;FMTTYPE=text/html:ESU Jr. High Quiz Bowl
LOCATION:Seward Civic Center 616 Bradford St. Seward\, NE
UID:e.865.1909
SEQUENCE:3
DTSTAMP:20260422T031527Z
URL:https://business.cultivatesewardcounty.com/events/details/esu-junior-high-quiz-bowl-04-03-2013-1909
END:VEVENT

END:VCALENDAR
