BEGIN:VCALENDAR
VERSION:2.0
PRODID:-//ChamberMaster//Event Calendar 2.0//EN
METHOD:PUBLISH
X-PUBLISHED-TTL:P3D
REFRESH-INTERVAL:P3D
CALSCALE:GREGORIAN
BEGIN:VEVENT
DTSTART:20110821T170000Z
DTEND:20110821T210000Z
X-MICROSOFT-CDO-ALLDAYEVENT:FALSE
SUMMARY:Elvis is in the Building
DESCRIPTION:Direct from Branson!  Joseph Hall\, Male Performer of the Year - From NBC's "America's Got Talent"\n\n	\n\n	Joseph Hall has only been professionally supplying his impression of Elvis for a few years\, but he is so awesome at portraying "The King of Rock n' Roll\," one might wonder if they had traveled back in time.  He is complete in his impression\, ranging the span of Elvis' career\, not just the white jump suit days.  From rockabilly to the '68 Special\, and yes\, the white jump suit phase\, Joseph covers them all.
X-ALT-DESC;FMTTYPE=text/html:<p>\n	Direct from Branson!&nbsp\; Joseph Hall\, Male Performer of the Year -&nbsp\;From NBC&#39\;s &quot\;America&#39\;s Got Talent&quot\;<br />\n	<br />\n	Joseph Hall has only been professionally supplying his impression of Elvis for a few years\, but he is so awesome at portraying &quot\;The King of Rock n&#39\; Roll\,&quot\; one might wonder if they had traveled back in time.&nbsp\; He is complete in his impression\, ranging the span of Elvis&#39\; career\, not just the white jump suit days.&nbsp\; From rockabilly to the &#39\;68 Special\, and yes\, the white jump suit phase\, Joseph covers them all.</p>\n
LOCATION:Seward County Fairgrounds - Ag Pavilion
UID:e.865.1136
SEQUENCE:3
DTSTAMP:20260424T202546Z
URL:https://business.cultivatesewardcounty.com/events/details/elvis-is-in-the-building-08-21-2011-1136
END:VEVENT

END:VCALENDAR
