BEGIN:VCALENDAR
VERSION:2.0
PRODID:-//ChamberMaster//Event Calendar 2.0//EN
METHOD:PUBLISH
X-PUBLISHED-TTL:P3D
REFRESH-INTERVAL:P3D
CALSCALE:GREGORIAN
BEGIN:VEVENT
DTSTART:20120510T233000Z
DTEND:20120511T003000Z
X-MICROSOFT-CDO-ALLDAYEVENT:FALSE
SUMMARY:Eating for Energy
DESCRIPTION:What would your life be like with an abundance of energy and vitality? What foods are best to eat in order to increase your energy? During this class you will learn the benefits of super foods and whole foods. Discover the non-food factors that drain your energy as well as increase your energy. Don't miss this opportunity to sample many different foods and fresh juices while you learn how to increase your energy and vitality.
X-ALT-DESC;FMTTYPE=text/html:What would your life be like with an abundance of energy and vitality? What foods are best to eat in order to increase your energy? During this class you will learn the benefits of super foods and whole foods. Discover the non-food factors that drain your energy as well as increase your energy. Don&rsquo\;t miss this opportunity to sample many different foods and fresh juices while you learn how to increase your energy and vitality.
LOCATION:Nutritionique (Inside Hackbart Chiropractic) 508 N. 6th Street\, Suite 2 Seward\, NE
UID:e.865.1392
SEQUENCE:3
DTSTAMP:20260422T190044Z
URL:https://business.cultivatesewardcounty.com/events/details/eating-for-energy-05-10-2012-1392
END:VEVENT

END:VCALENDAR
