BEGIN:VCALENDAR
VERSION:2.0
PRODID:-//ChamberMaster//Event Calendar 2.0//EN
METHOD:PUBLISH
X-PUBLISHED-TTL:P3D
REFRESH-INTERVAL:P3D
CALSCALE:GREGORIAN
BEGIN:VEVENT
DTSTART:20130309T150000Z
DTEND:20130309T173000Z
X-MICROSOFT-CDO-ALLDAYEVENT:FALSE
SUMMARY:Easter for Kids
DESCRIPTION:GRACE LUTHERAN CHURCH\n\nIS HOSTING A ONE-DAY\n\n\n\nEASTER FOR KIDS\n\n\n\nChildren\, 4yrs old 8th Grade\, are invited to participate in a one-day Bible School emphasizing the true meaning of Easter.\n\n\n\nSaturday\, March 9\n\n9 AM until 11:30 AM\n\n\n\n746 Pinewood Ave.\n\nSeward\, NE\n\n402-643-4131\n\n\n\nBible Lesson   Crafts   Singing   Snacks
X-ALT-DESC;FMTTYPE=text/html:GRACE LUTHERAN CHURCH<br />\nIS HOSTING A ONE-DAY<br />\n<br />\nEASTER FOR KIDS<br />\n<br />\nChildren\, 4yrs old&mdash\;8th Grade\, are invited to participate in a one-day Bible School emphasizing the true meaning of Easter.<br />\n<br />\nSaturday\, March 9<br />\n9 AM until 11:30 AM<br />\n<br />\n746 Pinewood Ave.<br />\nSeward\, NE<br />\n402-643-4131<br />\n<br />\nBible Lesson &#8729\; Crafts &#8729\; Singing &#8729\; Snacks<br />\n&nbsp\;
LOCATION:746 Pinewood Ave
UID:e.865.1749
SEQUENCE:3
DTSTAMP:20260422T044324Z
URL:https://business.cultivatesewardcounty.com/events/details/easter-for-kids-03-09-2013-1749
END:VEVENT

END:VCALENDAR
