BEGIN:VCALENDAR
VERSION:2.0
PRODID:-//ChamberMaster//Event Calendar 2.0//EN
METHOD:PUBLISH
X-PUBLISHED-TTL:P3D
REFRESH-INTERVAL:P3D
CALSCALE:GREGORIAN
BEGIN:VEVENT
DTSTART;VALUE=DATE:20130326
DTEND;VALUE=DATE:20130327
TRANSP:TRANSPARENT
X-MICROSOFT-CDO-ALLDAYEVENT:TRUE
SUMMARY:Earth Day
DESCRIPTION:Remember to:  reduce\, reuse\, recycle\, restore and replenish.
X-ALT-DESC;FMTTYPE=text/html:Remember to:&nbsp\; reduce\, reuse\, recycle\, restore and replenish.&nbsp\; 
LOCATION:
UID:e.865.2068
SEQUENCE:3
DTSTAMP:20260422T044233Z
URL:https://business.cultivatesewardcounty.com/events/details/earth-day-03-26-2013-2068
END:VEVENT

END:VCALENDAR
