BEGIN:VCALENDAR
VERSION:2.0
PRODID:-//ChamberMaster//Event Calendar 2.0//EN
METHOD:PUBLISH
X-PUBLISHED-TTL:P3D
REFRESH-INTERVAL:P3D
CALSCALE:GREGORIAN
BEGIN:VEVENT
DTSTART:20111213T160000Z
DTEND:20111213T170000Z
X-MICROSOFT-CDO-ALLDAYEVENT:FALSE
SUMMARY:E-books introduction
DESCRIPTION:Megan Boggs of the Seward Memorial Library and Carla Ketner of Chapters Books & Gifts overview how to purchase or borrow and download e-books from Chapters' website or the Seward Library for a variety of electronic devices.
X-ALT-DESC;FMTTYPE=text/html:Megan Boggs of the Seward Memorial Library and Carla Ketner of Chapters Books &amp\; Gifts overview how to purchase or borrow and download e-books from Chapters&#39\; website or the Seward Library for a variety of electronic devices.
LOCATION:Chapters Books & Gifts
UID:e.865.1188
SEQUENCE:3
DTSTAMP:20260424T124234Z
URL:https://business.cultivatesewardcounty.com/events/details/e-books-introduction-12-13-2011-1188
END:VEVENT

END:VCALENDAR
