BEGIN:VCALENDAR
VERSION:2.0
PRODID:-//ChamberMaster//Event Calendar 2.0//EN
METHOD:PUBLISH
X-PUBLISHED-TTL:P3D
REFRESH-INTERVAL:P3D
CALSCALE:GREGORIAN
BEGIN:VEVENT
DTSTART:20151215T000000Z
DTEND:20151215T013000Z
X-MICROSOFT-CDO-ALLDAYEVENT:FALSE
SUMMARY:Downtown Merchants & Building Owners Meeting
DESCRIPTION:Hear the results of the market research surveys conducted this past summer and begin a discussion about the future of downtown Seward.
X-ALT-DESC;FMTTYPE=text/html:Hear the results of the market research surveys conducted this past summer and begin a discussion about the future of downtown Seward.
LOCATION:Seward Memorial Library\, Conference Room\, Lower Level
UID:e.865.5428
SEQUENCE:3
DTSTAMP:20260420T084236Z
URL:https://business.cultivatesewardcounty.com/events/details/downtown-merchants-building-owners-meeting-12-14-2015-5428
END:VEVENT

END:VCALENDAR
