BEGIN:VCALENDAR
VERSION:2.0
PRODID:-//ChamberMaster//Event Calendar 2.0//EN
METHOD:PUBLISH
X-PUBLISHED-TTL:P3D
REFRESH-INTERVAL:P3D
CALSCALE:GREGORIAN
BEGIN:VEVENT
DTSTART:20121023T000000Z
DTEND:20121023T010000Z
X-MICROSOFT-CDO-ALLDAYEVENT:FALSE
SUMMARY:Don't Let Identity Thieves Trick You
DESCRIPTION:Seward Memorial Library will host a special one-hour program on identity theft.  "Don't Let Identity Thieves Trick You" will feature a group of local officials from several banks\, the Post Office and the Seward Police Department\, who will share valuable information to help protect residents of all ages.
X-ALT-DESC;FMTTYPE=text/html:<p>\n	Seward Memorial Library will host a special one-hour program on identity theft.&nbsp\; &quot\;Don&#39\;t Let Identity Thieves Trick You&quot\; will feature a group of local officials from&nbsp\;several banks\, the Post Office and the Seward Police Department\, who will share valuable information to help protect residents of all ages.</p>\n
LOCATION:Seward Memorial Library
UID:e.865.1731
SEQUENCE:3
DTSTAMP:20260422T113108Z
URL:https://business.cultivatesewardcounty.com/events/details/don-t-let-identity-thieves-trick-you-10-22-2012-1731
END:VEVENT

END:VCALENDAR
