BEGIN:VCALENDAR
VERSION:2.0
PRODID:-//ChamberMaster//Event Calendar 2.0//EN
METHOD:PUBLISH
X-PUBLISHED-TTL:P3D
REFRESH-INTERVAL:P3D
CALSCALE:GREGORIAN
BEGIN:VEVENT
DTSTART:20131020T180000Z
DTEND:20131020T200000Z
X-MICROSOFT-CDO-ALLDAYEVENT:FALSE
SUMMARY:Disc Golf Regional Fall League
DESCRIPTION:Regional Fall League Disc Golding\; league is called "Fall Flyover."  The league takes players to courses around the area on Sunday afternoon.  Seward's turn is October 20th with on-site registration beginning at 1:00 pm.\n\n\n\nMore disc golf events in Nebraska can be found at http://www.nebdisc.com/
X-ALT-DESC;FMTTYPE=text/html:Regional Fall League Disc Golding\; league is called &quot\;Fall Flyover.&quot\;&nbsp\; The league takes players to courses around the area on Sunday afternoon.&nbsp\; Seward&#39\;s turn is October 20th with on-site registration beginning at 1:00 pm.<br />\n<br />\nMore disc golf events in Nebraska can be found at http://www.nebdisc.com/ 
LOCATION:Plum Creek Park 2222 Karol Kay Blvd. Seward\, NE
UID:e.865.2915
SEQUENCE:3
DTSTAMP:20260421T191629Z
URL:https://business.cultivatesewardcounty.com/events/details/disc-golf-regional-fall-league-10-20-2013-2915
END:VEVENT

END:VCALENDAR
