BEGIN:VCALENDAR
VERSION:2.0
PRODID:-//ChamberMaster//Event Calendar 2.0//EN
METHOD:PUBLISH
X-PUBLISHED-TTL:P3D
REFRESH-INTERVAL:P3D
CALSCALE:GREGORIAN
BEGIN:VEVENT
DTSTART:20131024T223000Z
DTEND:20131024T233000Z
X-MICROSOFT-CDO-ALLDAYEVENT:FALSE
SUMMARY:Disc Golf Outings at Plum Creek Park
DESCRIPTION:Disc golf outings every Thursday evening beginning at 5:30 pm.  An RSVP is not necessary but it is appreciated.  Because of shorter evenings starting today\, play will begin at 5:30 pm with plans to get in as many holes as possible before dark.  These outings will continue for as long as weather permits.\n\n\n\nAn RSVP is not necessary but it is appreciated. \n\n\n\nAnyone is welcome to join and play\, learn the sport or simply walk along and see what golf disc is like.  Meet at the first tee (the playground by the soccer field)
X-ALT-DESC;FMTTYPE=text/html:<br />\n<br />\nDisc golf outings every Thursday evening beginning at&nbsp\;5:30 pm.&nbsp\; An RSVP is not necessary but it is appreciated.&nbsp\; Because of shorter evenings starting today\, play will begin at 5:30 pm with plans to get in as many holes as possible before dark.&nbsp\; These outings will continue for as long as weather permits.<br />\n<br />\nAn RSVP is not necessary but it is appreciated.&nbsp\;<br />\n<br />\nAnyone is welcome to join and play\, learn the sport or simply walk along and see what golf disc is like.&nbsp\; Meet at the first tee (the playground by the soccer field)
LOCATION:Plum Creek Park - meet at the first tee (the playground by the soccer field) 2222 Karol Kay Blvd. Seward\, NE
UID:e.865.2905
SEQUENCE:3
DTSTAMP:20260421T203503Z
URL:https://business.cultivatesewardcounty.com/events/details/disc-golf-outings-at-plum-creek-park-10-24-2013-2905
END:VEVENT

END:VCALENDAR
