BEGIN:VCALENDAR
VERSION:2.0
PRODID:-//ChamberMaster//Event Calendar 2.0//EN
METHOD:PUBLISH
X-PUBLISHED-TTL:P3D
REFRESH-INTERVAL:P3D
CALSCALE:GREGORIAN
BEGIN:VEVENT
DTSTART:20130926T230000Z
DTEND:20130927T010000Z
X-MICROSOFT-CDO-ALLDAYEVENT:FALSE
SUMMARY:Disc Golf Outings at Plum Creek Park
DESCRIPTION:Disc golf outings every Thursday evening beginning at 6:00 pm.  An RSVP is not necessary but it is appreciated. \n\n\n\nAnyone is welcome to join and play\, learn the sport or simply walk along and see what golf disc is like.  Meet at the first tee (the playground by the soccer field)
X-ALT-DESC;FMTTYPE=text/html:Disc golf outings every Thursday evening beginning at 6:00 pm.&nbsp\; An RSVP is not necessary but it is appreciated.&nbsp\;<br />\n<br />\nAnyone is welcome to join and play\, learn the sport or simply walk along and see what golf disc is like.&nbsp\; Meet at the first tee (the playground by the soccer field)
LOCATION:Plum Creek Park - meet at the first tee (the playground by the soccer field) 2222 Karol Kay Blvd. Seward\, NE
UID:e.865.2901
SEQUENCE:3
DTSTAMP:20260421T204634Z
URL:https://business.cultivatesewardcounty.com/events/details/disc-golf-outings-at-plum-creek-park-09-26-2013-2901
END:VEVENT

END:VCALENDAR
