BEGIN:VCALENDAR
VERSION:2.0
PRODID:-//ChamberMaster//Event Calendar 2.0//EN
METHOD:PUBLISH
X-PUBLISHED-TTL:P3D
REFRESH-INTERVAL:P3D
CALSCALE:GREGORIAN
BEGIN:VEVENT
DTSTART:20111116T010000Z
DTEND:20111116T020000Z
X-MICROSOFT-CDO-ALLDAYEVENT:FALSE
SUMMARY:Diabetic Support Group
DESCRIPTION:Diabetic Support Group
X-ALT-DESC;FMTTYPE=text/html:Diabetic Support Group<br />\n
LOCATION:Seward Family Medical Center Lower Level Conference Room 300 N. Columbia Ave. Seward\, NE
UID:e.865.1154
SEQUENCE:3
DTSTAMP:20260424T141120Z
URL:https://business.cultivatesewardcounty.com/events/details/diabetic-support-group-11-15-2011-1154
END:VEVENT

END:VCALENDAR
