BEGIN:VCALENDAR
VERSION:2.0
PRODID:-//ChamberMaster//Event Calendar 2.0//EN
METHOD:PUBLISH
X-PUBLISHED-TTL:P3D
REFRESH-INTERVAL:P3D
CALSCALE:GREGORIAN
BEGIN:VEVENT
DTSTART:20140301T000000Z
DTEND:20140301T030000Z
X-MICROSOFT-CDO-ALLDAYEVENT:FALSE
SUMMARY:Daddy Daughter Date Night
DESCRIPTION:Daddy Daughter Date Night -for dads and daughters (K-8th grades).  Dinner will be catered\, there will be dancing\, games and formal portraits.  Semi-formal attire.\n\n\n\nThis event is sponsored by the Seward Youth Center and is one of their larger fundraisers for the center.
X-ALT-DESC;FMTTYPE=text/html:Daddy Daughter Date Night -for dads and daughters (K-8th grades).&nbsp\; Dinner will be catered\, there will be dancing\, games and formal portraits.&nbsp\; Semi-formal attire.<br />\n<br />\nThis event is sponsored by the Seward Youth Center and is one of their larger fundraisers for the center.
LOCATION:Seward County Fairgrounds - Ag Pavilion 500 North 14th Street Seward\, NE
UID:e.865.3438
SEQUENCE:3
DTSTAMP:20260421T141832Z
URL:https://business.cultivatesewardcounty.com/events/details/daddy-daughter-date-night-02-28-2014-3438
END:VEVENT

END:VCALENDAR
