BEGIN:VCALENDAR
VERSION:2.0
PRODID:-//ChamberMaster//Event Calendar 2.0//EN
METHOD:PUBLISH
X-PUBLISHED-TTL:P3D
REFRESH-INTERVAL:P3D
CALSCALE:GREGORIAN
BEGIN:VEVENT
DTSTART:20110701T150000Z
DTEND:20110701T163000Z
X-MICROSOFT-CDO-ALLDAYEVENT:FALSE
SUMMARY:Curt Bright of the String Beans
DESCRIPTION:Curt Bright of the String Beans performs a solo concert\, following our Summer Day Camp theatre and puppet performances by the kids.
X-ALT-DESC;FMTTYPE=text/html:Curt Bright of the String Beans performs a solo concert\, following our Summer Day Camp theatre and puppet performances by the kids.
LOCATION:Seward Band Shell (in case of inclement weather\, concert will be moved to the Seward Civic Center Auditorium)
UID:e.865.1071
SEQUENCE:3
DTSTAMP:20260424T202531Z
URL:https://business.cultivatesewardcounty.com/events/details/curt-bright-of-the-string-beans-07-01-2011-1071
END:VEVENT

END:VCALENDAR
