BEGIN:VCALENDAR
VERSION:2.0
PRODID:-//ChamberMaster//Event Calendar 2.0//EN
METHOD:PUBLISH
X-PUBLISHED-TTL:P3D
REFRESH-INTERVAL:P3D
CALSCALE:GREGORIAN
BEGIN:VEVENT
DTSTART:20130407T190000Z
DTEND:20130407T210000Z
X-MICROSOFT-CDO-ALLDAYEVENT:FALSE
SUMMARY:Concordia University "The Matchmaker"
DESCRIPTION:Concordia University "The Matchmaker"
X-ALT-DESC;FMTTYPE=text/html:Concordia University &quot\;The Matchmaker&quot\;
LOCATION:Concordia University Weller Auditorium 800 N Columbia Seward\, NE
UID:e.865.1913
SEQUENCE:3
DTSTAMP:20260422T031600Z
URL:https://business.cultivatesewardcounty.com/events/details/concordia-university-the-matchmaker-04-07-2013-1913
END:VEVENT

END:VCALENDAR
