BEGIN:VCALENDAR
VERSION:2.0
PRODID:-//ChamberMaster//Event Calendar 2.0//EN
METHOD:PUBLISH
X-PUBLISHED-TTL:P3D
REFRESH-INTERVAL:P3D
CALSCALE:GREGORIAN
BEGIN:VEVENT
DTSTART:20130324T200000Z
DTEND:20130324T220000Z
X-MICROSOFT-CDO-ALLDAYEVENT:FALSE
SUMMARY:Concordia University Symphonic Band Concert
DESCRIPTION:Concert by the Concordia University Symphonic Band
X-ALT-DESC;FMTTYPE=text/html:Concert by the Concordia University Symphonic Band
LOCATION:St. John Lutheran Church 919 North Columbia Seward\, NE
UID:e.865.1902
SEQUENCE:3
DTSTAMP:20260422T044830Z
URL:https://business.cultivatesewardcounty.com/events/details/concordia-university-symphonic-band-concert-03-24-2013-1902
END:VEVENT

END:VCALENDAR
