BEGIN:VCALENDAR
VERSION:2.0
PRODID:-//ChamberMaster//Event Calendar 2.0//EN
METHOD:PUBLISH
X-PUBLISHED-TTL:P3D
REFRESH-INTERVAL:P3D
CALSCALE:GREGORIAN
BEGIN:VEVENT
DTSTART:20140503T003000Z
DTEND:20140503T013000Z
X-MICROSOFT-CDO-ALLDAYEVENT:FALSE
SUMMARY:Concordia University Spring JazzFest
DESCRIPTION:Concordia University Spring JazzFest\, Weller Auditorium
X-ALT-DESC;FMTTYPE=text/html:Concordia University Spring JazzFest\, Weller Auditorium
LOCATION:Weller Auditorium\, Concordia University 800 North Columbia Seward\, NE
UID:e.865.3834
SEQUENCE:3
DTSTAMP:20260421T094715Z
URL:https://business.cultivatesewardcounty.com/events/details/concordia-university-spring-jazzfest-05-02-2014-3834
END:VEVENT

END:VCALENDAR
